BEGIN:VCALENDAR
VERSION:2.0
PRODID:-//EAA Warbirds of America - ECPv4.6.26//NONSGML v1.0//EN
CALSCALE:GREGORIAN
METHOD:PUBLISH
X-WR-CALNAME:EAA Warbirds of America
X-ORIGINAL-URL:https://www.warbirds-eaa.org
X-WR-CALDESC:Events for EAA Warbirds of America
BEGIN:VEVENT
DTSTART;VALUE=DATE:20230520
DTEND;VALUE=DATE:20230522
DTSTAMP:20260424T170504
CREATED:20230106T191015Z
LAST-MODIFIED:20230106T191015Z
UID:5977-1684540800-1684713599@www.warbirds-eaa.org
SUMMARY:Wings Over Wayne Air Show
DESCRIPTION:\nWings Over Wayne Air Show 2023\n\n\nWings Over Wayne Air Show is a biennial event taking place every other year in odd-numbered years. It has grown to be the largest FREE air show in North Carolina attracting nearly 200\,000 people to the flight line of Seymour Johnson AFB for the two-day event. WOW was awarded “2017 Event of The Year” by the N.C. Association of Festivals & Events\, by demonstrating growth\, the betterment of a community and region\, and being a poignant reminder of how incredible our servicemen and women are who sacrifice so much to protect us. We welcome you and your family to this amazing event! \n\n\n\n \nWings Over Wayne Mission Statement: Welcome the Public\, Showcase our Capabilities\, and Inspire our Community\n\n\n\nAbout Seymour Johnson AFB & the 4th FW\n\n\nSeymour Johnson Air Force Base is located in Goldsboro\, N.C. The base is home to the 4th Fighter Wing of the Air Combat Command\, one of the most storied in U.S. history\, celebrating 78 years of service. Two Air Force Reserve units also reside here: the 916th Air Refueling Wing and the 414th Fighter Group. Seymour Johnson AFB’s mission is to deliver dominant Strike Eagle Airpower…Anytime\, Anyplace. Come to witness Team Seymour fill the air with the powerful sound of freedom during #WOW23! \n\n\n\n \n \n\n\n\n\n\n\nWings Over Wayne\nAir Show\nMay 20 – 21\, 2023\nAdmission and Parking are FREE\n\n\n\n\n\n\n\n\n\n\n\n \n \n\n\n\n\n \n \n\n\n\n\nSEYMOUR JOHNSON AIR FORCE BASE  | GOLDSBORO\, NORTH CAROLINA\nTake a look at the former #WOW19 Line Up\n\n\n\nFLYING SCHEDULE\n\n\n\nTICKETS\n\n\n\nSTATIC DISPLAYS +\nATTRACTIONS\n\n\n\nGETTING HERE\n\n\n\nAIRSHOW MAP​\n\n\n\nFREQUENTLY ASKED QUESTIONS\n\n \n\n\n\n\n\n\n\n \n \n\n\n\n\n \n \n\n\n\n\nVISIT OUR WOW GALLERY\n\n\n\n\n\n\n\n\n\n\n\n\n\n\n\n\n\n\n\n\n\n\n\n\n\n\n\n\n\n\n\n\n\n\n\n\n\n\n\n\n\n\n\n\n\n\n\n\n\n\n\n\n\n\n\n\n\n\n\n\n \n \n\n\n\n\n \n \n\n\n\n\nTHANK YOU TO 2019’s SPONSORS!\n\n\n\n\n\n\n\n\n\n\n\n\n\n\n\n\n \n\n\n\n\n\n\n\n\n\n\n\n\nSocial Galleries\nFollow us @wingsoverwayne and Find us on Instagram @wingsoverwayne\n\n\n\n\n \n
URL:https://www.warbirds-eaa.org/event/wings-over-wayne-air-show/
LOCATION:Seymour Johnson AFB\, 1050 Wright Brothers Ave\, Goldsboro\, NC\, 27531\, United States
ATTACH;FMTTYPE=image/jpeg:https://www.warbirds-eaa.org/wp-content/uploads/2023/01/217517240_4117939704909013_875328565908239937_n.jpg
END:VEVENT
END:VCALENDAR