BEGIN:VCALENDAR
VERSION:2.0
PRODID:-//EAA Warbirds of America - ECPv4.6.26//NONSGML v1.0//EN
CALSCALE:GREGORIAN
METHOD:PUBLISH
X-WR-CALNAME:EAA Warbirds of America
X-ORIGINAL-URL:https://www.warbirds-eaa.org
X-WR-CALDESC:Events for EAA Warbirds of America
BEGIN:VEVENT
DTSTART;VALUE=DATE:20210925
DTEND;VALUE=DATE:20210926
DTSTAMP:20260424T063107
CREATED:20210910T160709Z
LAST-MODIFIED:20210910T161302Z
UID:5178-1632528000-1632614399@www.warbirds-eaa.org
SUMMARY:Warbirds Squadron 32 Fly-In/Drive-In
DESCRIPTION:Join Warbirds squadron 32 for our 5th anniversary fly-in/drive in! \n\nEnjoy brats and hamburgers provided by VFW Florian-Lampert Post 1908\nSee static displays and flying Warbird aircraft\n\nGeneral aviation aircraft welcome to attend!\n\n\nThe CAF Wisconsin wing will be giving rides in their SNJ-5 and PT-26\nThe Military Veterans museum and education center will have a display of military vehicles\nPedal planes will be available for children\nFree Young Eagle rides for kids 8 -17 years\n\nEvent hosted by Oshkosh Warbirds squadron 32\nContact us by email at warbirdssquadron32@gmail.com or check out our facebook page at https://www.facebook.com/OshkoshSquad \nAlso Participating:\nVFW Florian – Lampert Post 1908 – Food Vendor\nCommemorative Air Force Wisconsin Wing will be giving airplane rides and have static display aircraft\nMilitary Veterans Museum and Education Center will have military vehicle displays\nWittman Regional Airport will be the place we hold our event.  Make sure to check out the new terminal building! \n
URL:https://www.warbirds-eaa.org/event/warbirds-squadron-32-fly-in-drive-in/
LOCATION:Wittman Regional Airport (OSH)\, 525 W. 20th Ave\, Oshkosh\, WI\, 54902\, United States
ATTACH;FMTTYPE=application/pdf:https://www.warbirds-eaa.org/wp-content/uploads/2021/09/OWBS32-JCL-no-blue.pdf
END:VEVENT
END:VCALENDAR