BEGIN:VCALENDAR
VERSION:2.0
PRODID:-//EAA Warbirds of America - ECPv4.6.26//NONSGML v1.0//EN
CALSCALE:GREGORIAN
METHOD:PUBLISH
X-WR-CALNAME:EAA Warbirds of America
X-ORIGINAL-URL:https://www.warbirds-eaa.org
X-WR-CALDESC:Events for EAA Warbirds of America
BEGIN:VEVENT
DTSTART;VALUE=DATE:20211022
DTEND;VALUE=DATE:20211024
DTSTAMP:20260424T122947
CREATED:20211008T143502Z
LAST-MODIFIED:20211008T143502Z
UID:5229-1634860800-1635033599@www.warbirds-eaa.org
SUMMARY:Warbirds at Upper Cumberland Air Fair
DESCRIPTION:Warbirds! Come enjoy the fall weather at the Upper Cumberland Air Fair! Located in Sparta\, TN on 22-23 October\, we are looking to invite Warbirds to attend and display your aircraft. We will offer free admission and departure fuel for all Warbirds who wish to attend. Please contact Greg Gibson at greg@tailwindonline.com or (813) 507-1799. For more information on this fun event\, please visit www.ucregionalairport.com/air-fair. \n \n
URL:https://www.warbirds-eaa.org/event/warbirds-at-upper-cumberland-air-fair/
LOCATION:Upper Cumberland Regional Airport\, 750 Airport Road\, Sparty\, TN\, 38583\, United States
ATTACH;FMTTYPE=image/png:https://www.warbirds-eaa.org/wp-content/uploads/2021/10/UCAF-logo-2021r2.png
END:VEVENT
END:VCALENDAR