BEGIN:VCALENDAR
VERSION:2.0
PRODID:-//EAA Warbirds of America - ECPv4.6.26//NONSGML v1.0//EN
CALSCALE:GREGORIAN
METHOD:PUBLISH
X-WR-CALNAME:EAA Warbirds of America
X-ORIGINAL-URL:https://www.warbirds-eaa.org
X-WR-CALDESC:Events for EAA Warbirds of America
BEGIN:VEVENT
DTSTART;VALUE=DATE:20230325
DTEND;VALUE=DATE:20230327
DTSTAMP:20260424T182626
CREATED:20230105T192324Z
LAST-MODIFIED:20230105T192324Z
UID:5885-1679702400-1679875199@www.warbirds-eaa.org
SUMMARY:Thunder and Lightning Over Arizona
DESCRIPTION:\n\n\n\n\nTHUNDER AND LIGHTNING OVER ARIZONA\n\n\n\n \n\n\n\n\n\n\n\n\n \n\n\n\n\n\n\n\n\nMore information on the upcoming\n\n\n\n2023 THUNDER & LIGHTNING OVER ARIZONA AIR SHOW\nwill become available in January. \nKeep an eye on our social media accounts for the most current updates!\n\n\n\n\n\n\n\n\n\n
URL:https://www.warbirds-eaa.org/event/thunder-and-lightning-over-arizona/
LOCATION:Davis-Monthan Air Force Base\, S Wilmont Rd\, Tuscon\, AZ\, 85708\, United States
ATTACH;FMTTYPE=image/jpeg:https://www.warbirds-eaa.org/wp-content/uploads/2023/01/Air-Show-Final.jpg
END:VEVENT
END:VCALENDAR