BEGIN:VCALENDAR
VERSION:2.0
PRODID:-//EAA Warbirds of America - ECPv4.6.26//NONSGML v1.0//EN
CALSCALE:GREGORIAN
METHOD:PUBLISH
X-WR-CALNAME:EAA Warbirds of America
X-ORIGINAL-URL:https://www.warbirds-eaa.org
X-WR-CALDESC:Events for EAA Warbirds of America
BEGIN:VEVENT
DTSTART;VALUE=DATE:20210622
DTEND;VALUE=DATE:20210627
DTSTAMP:20260423T232117
CREATED:20210216T211737Z
LAST-MODIFIED:20210216T211737Z
UID:4238-1624320000-1624751999@www.warbirds-eaa.org
SUMMARY:Sentimental Journey Fly In
DESCRIPTION:Sentimental Journey is Located in Lock Haven\, PA. (LHV ). \n Become a member of Sentimental Journey. All Members receive a membership card\, and 1/2 off admission price to the Fly In on Member Appreciation Day (Friday\, June 25\, 2021).  You will also receive $1.00 off the pancake breakfasts\,  limit 2 discounts for family membership and 4 discounts for corporate membership. Click HERE to download a membership application and mail it in with your payment OR bring it to the breakfast. Individual membership is only $15.00; Family memberships $20.00; Corporate membership is $28.00. \n          Sentimental Journey Pancake Breakfast Fly-In or Drive-In:\n2021Breakfast Dates: TBD. ( 2020 has been cancelled ). \nALL YOU CAN EAT BREAKFAST includes Pancakes\, Pennsylvania Maple Syrup\, Eggs\, Sausage Links\, Potato Patty\, Sausage Gravy and Biscuits\, Fruit Cup\, OJ\, Coffee\, Tea & Water. \nAdults – $9; Children – $5; Under Age 5 – Free.  Members receive $1.00 discount (see details above).  Memberships may be purchased at the Breakfast. \nDiscovery Flights by AvSport of Lock Haven..$75.00 for 30 min.\n 2020 Covid-19 t-shirts are in. Call me! \n The 35th Annual Sentimental Journey to Cub Haven Fly-In: Tuesday\, June 22 – Saturday June 26\, 2021.   \nLet’s all turn out to celebrate and “ Kiss the ground the Piper J-3 was built on.”  We want to see a beautiful field of yellow\, just like the Good Ole Days. Featured planes: Piper Shortwings. As always…we welcome and judge all makes & models. \nSaturday\, June 26th is Piper Employee Day: All past & present Piper employees get in FREE. \n  \nSentimental Journey does not and shall not discriminate on the basis of race\, color\, religion (creed)\, gender\, gender expression\, age\, national origin (ancestry)\, disability\, marital status\, sexual orientation\, or military status\, or any of it’s activities or operations.These activities include\, but are not limited to hiring & firing of staff\, selection of volunteers and vendors\, and provisions of services. We are commited to providing an inclusive and welcoming environment for all members of our staff\, clients\, volunteers\, subcontractors\, vendors\, and clients and is an equal opportunity employer. We will not discriminate and will take affirmative action measures to ensure against discrimination in employment\, recruitment\, advertisements for employment\, compensation\, termination\, upgrading\, promotions and other conditions of employment against any employee or job applicant on the basis of race\, color\, gender\, national origin\, age\, religion\, creed\, didability\, veteran’s status\, sexual orientation\, gender identity or gender expression. \nSentimental Journey Inc.\n(570) 893-4200 * Fax – (570) 893-4218\nPO Box J-3\, Lock Haven\, PA 17745-0496 *j3cub@kcnet.org \n
URL:https://www.warbirds-eaa.org/event/sentimental-journey-fly-in/
LOCATION:Sentimental Journey Inc.\, 353 Proctor Street\, Lock Haven\, PA\, 17745\, United States
END:VEVENT
END:VCALENDAR