BEGIN:VCALENDAR
VERSION:2.0
PRODID:-//EAA Warbirds of America - ECPv4.6.26//NONSGML v1.0//EN
CALSCALE:GREGORIAN
METHOD:PUBLISH
X-WR-CALNAME:EAA Warbirds of America
X-ORIGINAL-URL:https://www.warbirds-eaa.org
X-WR-CALDESC:Events for EAA Warbirds of America
BEGIN:VEVENT
DTSTART;VALUE=DATE:20210703
DTEND;VALUE=DATE:20210705
DTSTAMP:20260423T155232
CREATED:20210216T223956Z
LAST-MODIFIED:20210216T223956Z
UID:4255-1625270400-1625443199@www.warbirds-eaa.org
SUMMARY:Kansas City Air Show
DESCRIPTION:Kansas City Air Show\nJuly 3-4\nNew Century Air Center\nNew Century\, Kansas \n\n\n\n\nPerformers\n\n\n\n\n\n\n\nU.S. Navy Blue Angels\n\n\n\n\n\nThrilling audiences for over 70 years\, the iconic U.S. Navy Blue Angels fly six powerful F/A-18 Hornet fighter jets during their tightly choreographed\, high-energy demonstration. \n\n\n\n\n\n\n\n\n\n\n\n\n\n\n\n\n\n\n\n \n\n\n\n\n\n\n\nUS Marine Corps C-130J – Super Hercules\n\n\n\n\n\nThe newest generation of C-130 Hercules! \n\n\n\n\n\n\n\n\n\n\n\n\n\n\n\n\n\n\n\n \n\n\n\n\n\n\n\nGeico Skytypers Airshow Team\n\n\n\n\n\nThis world famous flight squadron consists of six vintage WWII aircraft\, performing precision flight maneuvers! \n\n\n\n\n\n\n\n\n\n\n\n\n\n\n\n\n\n\n\n \n\n\n\n\n\n\n\nAeroshell Aerobatic Team\n\n\n\n\n\nThese North American AT-6 Texans will have you smiling ear to ear! \n\n\n\n\n\n\n\n\n\n\n\n\n\n\n\n\n\n\n\n \n\n\n\n\n\n\n\nKC Flight Formation\n\n\n\n\n\nThese hometown favorites will be showing off some Kansas City magic! \n\n\n\n\n\n\n\n\n\n\n\n\n\n\n\n\n\n\n\n \n\n\n\n\n\n\n\nF4U Corsair – “Korean War Hero”\n\n\n\n\n\nSee one of the best – if not THE best – fighter from WWII live! \n  \n\n\n\n\n\n\n\n\n\n\n\n\n\n\n\n\n\n\n\n \n\n\n\n\n\n\n\nP-51 Mustang “Quicksilver”\n\n\n\n\n\nDon’t miss this Allied aircraft soar through the skies! \n\n\n\n\n\n\n\n\n\n\n\n\n\n\n\n\n\n\n\n \n\n\n\n\n\n\n\nP-51 Mustang “By Request” – CAF Squadron\n\n\n\n\n\nThis awe-inspiring aircraft sparks conversations to educate young and old alike!\n\n\n\n\n\n\n\n\n\n\n\n\n\n\n\n\n\n\n\n \n\n\n\n\n\n\n\nP-40 Warhawk – Sam Graves\n\n\n\n\n\nThis Warhawk has seen some incredible action and still flies to tell about it! \n\n\n\n\n\n\n\n\n\n\n\n\n\n\n\n\n\n\n\n \n\n\n\n\n\n\n\nTwin Beech 18 – Matt Younkin\n\n\n\n\n\nMatt will be back to put on another one-of-a-kind performance! \n\n\n\n\n\n\n\n\n\n\n\n\n\n\n\n\n\n\n\n \n\n\n\n\n\n\n\nShetterly Squadron\n\n\n\n\n\nAviation runs in the blood of this KC area family! \n\n\n\n\n\n\n\n\n\n\n\n\n\n\n\n\n\n\n\n \n\n\n\n\n\n\n\nYAK110 – Jeff Boerboon\n\n\n\n\n\nIt’s safe to say you’ve probably never seen anything like this! \n\n\n\n\n\n\n\n\n\n\n\n\n\n\n\n\n\n\n\n \n\n\n\n\n\n\n\nMini Jet Airshows – Tom Larkin\n\n\n\n\n\nThey’re all about “high energy” airshows and interacting with kids! \n\n\n\n\n\n\n\n\n\n\n\n\n\n\n\n\n\n\n\n \n\n\n\n\n\n\n\nKevin Coleman\n\n\n\n\n\nHe started young\, and he’s been bringin’ it stronger and stronger ever since! \n\n\n\n\n\n\n\n\n\n\n\n\n\n\n\n\n\n\n\n \n\n\n\n\n\n\n\nJacquie B\n\n\n\n\n\nShe’s been inspiring and astounding audiences for years with her Extra 300 monoplane and aerobatic maneuvers! \n\n\n\n\n\n\n\n\n\n\n\n\n\n\n\n\n\n\n\n \n\n\n\n\n\n\n\nSkip Stewart\n\n\n\n\n\nHe’s one of the most known air show pilots in the world today for a reason! \n\n\n\n\n\n\n\n\n\n\n\n\n\n\n\n\n\n\n\n \n\n\n\n\n\n\n\nJim Peitz\n\n\n\n\n\nPeitz and his aerobatic Bonanza will leave fans completely mesmerized! \n\n\n\n\n\n\n\n\n\n\n\n\n\n\n\n\n\n\n\n \n\n\n\n\n\n\n\nAdam Baker\n\n\n\n\n\nHis hard core gyroscopic tumbles will have fans screaming with excitement!\n \n\n\n\n\n\n\n\n\n\n\n\n\n\n\n\n\n\n\n\n \n\n\n\n\n\n\n\nShockwave Jet Truck\n\n\n\n\n\nSee the earth be scorched by the flames and power of the world’s fastest Jet Truck! \n\n\n\n\n\n\n\n\n\n\n\n\n\n\n\n\n\n\n\n \n\n\n\n\n\n\n\nRob Reider – Air Show Announcer\n\n\n\n\n\nAward-winning Rob Reider brings added expertise and personality to the air show experience! \n\n\n\n\n\n\n\n\n\n\n\n\n\n\n\n\n\n\n\n \n\n\n\n\n\n\n\nWayne Boggs – Air Boss\n\n\n\n\n\nWayne Boggs is recognized as one of the top air show air bosses in North America! \n\n\n\n\n\n\n\n\n\n\n\n\n\n\n\n\n\n\n\n \n\n\n\n\n\n\n\n\n\n\n \n– Thank You Sponsors –\n       \n\n\n\n\n\n\n
URL:https://www.warbirds-eaa.org/event/kansas-city-air-show/
LOCATION:New Century AirCenter\, 1 New Century Pkwy\, Gardner\, KS\, 66030\, United States
END:VEVENT
END:VCALENDAR