BEGIN:VCALENDAR
VERSION:2.0
PRODID:-//EAA Warbirds of America - ECPv4.6.26//NONSGML v1.0//EN
CALSCALE:GREGORIAN
METHOD:PUBLISH
X-WR-CALNAME:EAA Warbirds of America
X-ORIGINAL-URL:https://www.warbirds-eaa.org
X-WR-CALDESC:Events for EAA Warbirds of America
BEGIN:VEVENT
DTSTART;VALUE=DATE:20231102
DTEND;VALUE=DATE:20231106
DTSTAMP:20260425T213432
CREATED:20231019T182602Z
LAST-MODIFIED:20231019T182602Z
UID:6733-1698883200-1699228799@www.warbirds-eaa.org
SUMMARY:Houston Executive Jet Blast
DESCRIPTION:Malte’s Jet Weekend:\n \nWe are excited to bring the Jet’s back to KTME\nPlease plan to arrive anytime on Thursday Nov. 2nd & be ready for Friday’s breakfast & Briefing.   \n \n\nWeekend Schedule:\n \nThursday: -Arrival Day / 6pm Dinner at restaurant in Katy\, Tx (Texas Tradition Restaurant)\n \n \nFriday :      -Breakfast at Henriksen Jet Center FBO at 0800 followed by Brief & Formation Flights\n \n                   -Lunch at KLBX Airport followed by Brief & Formation Flights\n \n                   -Dinner at restaurant in Katy (Rudy’s BBQ)\n \n \nSaturday:   -Breakfast at Avalair Hangar followed by Brief & Formation Flights\n \n                    -Lunch (Catered) at Avalair Hangar followed by Brief & Formation Flights\n \n                    -Dinner (Fajita Dinner) at the Hangar\n \n \nSunday:     -Breakfast at 0800 at the Avalair Hangar followed by Brief & Formation Flights\n \n                   -Lunch at Avalair Hangar / Departures\n \n \nNote: The airport will extend a cost+ fuel rate for all participants  (currently at $5.04/gal)\n\nTickets\n$300.00 Member Registration \n$200.00 Guest Registration (Family\, Spouse or Significant Other) \n$400.00 Guest Registration (includes membership thru 12/31/2024) \n\n\n
URL:https://www.warbirds-eaa.org/event/houston-executive-jet-blast/
LOCATION:Houston Executive Airport\, 1900 Cardiff Road\, Brookshire\, TX\, 77423\, United States
ATTACH;FMTTYPE=image/jpeg:https://www.warbirds-eaa.org/wp-content/uploads/2023/01/cjaa_Logo.jpg
END:VEVENT
END:VCALENDAR