BEGIN:VCALENDAR
VERSION:2.0
PRODID:-//EAA Warbirds of America - ECPv4.6.26//NONSGML v1.0//EN
CALSCALE:GREGORIAN
METHOD:PUBLISH
X-WR-CALNAME:EAA Warbirds of America
X-ORIGINAL-URL:https://www.warbirds-eaa.org
X-WR-CALDESC:Events for EAA Warbirds of America
BEGIN:VEVENT
DTSTART;VALUE=DATE:20231021
DTEND;VALUE=DATE:20231023
DTSTAMP:20260425T172753
CREATED:20231016T150401Z
LAST-MODIFIED:20231016T150401Z
UID:6695-1697846400-1698019199@www.warbirds-eaa.org
SUMMARY:Hammond Northshore Regional Airshow
DESCRIPTION:The Hammond Northshore Regional Airshow is Back! \nOctober 21-22 2023  \nHammond Northshore Regional Airport \n Hammond\, Louisiana \n  \nFeatured acts:- A-10C Thunderbolt II Demonstration Team \n                         US Army Golden Knights \n                         Aeroshell Aerobatic Team \nAnd many more! \n  \n  \n  \n
URL:https://www.warbirds-eaa.org/event/hammond-northshore-regional-airshow/
LOCATION:Hammond Northshore Regional Airport\, 600 Judge Leon Ford Dr.\, Hammond\, LA\, 70401\, United States
ATTACH;FMTTYPE=image/png:https://www.warbirds-eaa.org/wp-content/uploads/2023/10/images.png
END:VEVENT
END:VCALENDAR