BEGIN:VCALENDAR
VERSION:2.0
PRODID:-//EAA Warbirds of America - ECPv4.6.26//NONSGML v1.0//EN
CALSCALE:GREGORIAN
METHOD:PUBLISH
X-WR-CALNAME:EAA Warbirds of America
X-ORIGINAL-URL:https://www.warbirds-eaa.org
X-WR-CALDESC:Events for EAA Warbirds of America
BEGIN:VEVENT
DTSTART;TZID=America/Chicago:20211111T170000
DTEND;TZID=America/Chicago:20211111T210000
DTSTAMP:20260424T225525
CREATED:20211005T141846Z
LAST-MODIFIED:20211005T141846Z
UID:5208-1636650000-1636664400@www.warbirds-eaa.org
SUMMARY:EAA to honor 2020 and 2021 Halls of Fame inductees on Nov. 11
DESCRIPTION:EAA to honor 2020 and 2021 Halls of Fame inductees on Nov. 11  \nTwelve aviation notables recognized for contributions \nEAA AVIATION CENTER\, OSHKOSH\, Wisconsin — (September 30\, 2021) — Twelve individuals who contributed greatly to recreational aviation will be honored on November 11 as they are inducted into the EAA Sport Aviation Halls of Fame during a ceremony and dinner at the EAA Aviation Center in Oshkosh. The large group of individuals represent the Hall of Fame classes of 2020 and 2021\, as the 2020 induction ceremony was canceled due to the COVID pandemic. \nThe 2021 inductees include: \n\nEAA Homebuilders Hall of Fame: Flo and Bob Irwin (posthumous)\nInternational Aerobatic Club Hall of Fame: Kirby Chambliss of Chandler\, Arizona\nWarbirds of America Hall of Fame: Carl Scholl of Chino\, California\, and Tony Ritzman of Ontario\, California\nVintage Aircraft Association Hall of Fame: Steve Nesse of Albert Lea\, Minnesota\nEAA Ultralights Hall of Fame: Roy Beisswenger of Greenville\, Illinois\n\nThe November 11 event will also recognize the 2020 inductees: \n\nEAA Homebuilders Hall of Fame: Frank Christensen of St. George\, Utah\nInternational Aerobatic Club Hall of Fame: Verne Jobst of McHenry\, Illinois\nWarbirds of America Hall of Fame: Mark Clark of Rockford\, Illinois\nVintage Aircraft Association Hall of Fame: Steve Dyer of Brighton\, Colorado\nEAA Ultralights Hall of Fame: Dan Johnson of Port Orange\, Florida\n\nThe EAA Sport Aviation Halls of Fame were established to honor the outstanding achievements of men and women in aviation who share the spirit of EAA and its community. Those inducted into the halls of fame are selected by their peers for myriad contributions made to their respective areas of aviation. \n  \nAbout EAA \nThe Experimental Aircraft Association (EAA) is based in Oshkosh\, Wisconsin\, and embodies The Spirit of Aviation through the world’s most engaged community of aviation enthusiasts. EAA’s 240\,000 members and 900 local chapters enjoy the fun and camaraderie of sharing their passion for flying\, building and restoring recreational aircraft. For more information on EAA and its programs\, call 800-JOIN-EAA (800-564-6322) or go to www.eaa.org. For continual news updates\, connect with www.twitter.com/EAA. \n-30- \nEDITOR’S NOTE: Photos of the 2020 and 2021 Halls of Fame inductees are available at EAA’s media resources website. \nEAA HALLS OF FAME 2021 INDUCTEES \nHOMEBUILDERS HALL OF FAME \nFlo and Bob Irwin (posthumous): In 1965\, the couple began a business named Aircraft Spruce that sold timber to those who were building their own airplanes. The company quickly grew into a one-stop shop for aviation builders and restorers\, as well as all aircraft owners\, and became known by its current name of Aircraft Spruce and Specialty. The company’s annual catalog\, in both print and online versions\, has become the “wish book” for aviation enthusiasts. \nVINTAGE AIRCRAFT ASSOCIATION HALL OF FAME \nSteve Nesse (EAA 27037): Nesse has been actively involved in EAA since the late 1960s and with the Vintage Aircraft Association since its inception in 1971 as the EAA Antique-Classic Division. He was instrumental in the creation of the Contemporary Aircraft judging category at EAA AirVenture Oshkosh in the early 1990s\, which allowed thousands of aircraft to be restored\, maintained and judged to the high standards that are the hallmarks of the esteemed Lindy awards. Nesse is also a longtime member of the VAA board of directors\, chairs the Tall Pines Café area\, and involved in restoration workshops and other areas that serve AirVenture attendees. \nINTERNATIONAL AEROBATIC CLUB HALL OF FAME \nKirby Chambliss (EAA 261512): Chambliss has lived an aviation life\, beginning with his first flight lesons at age 13\, a corporate pilot at age 21\, and a Southwest Airlines pilot by age 24. His most notable fame\, however\, came as an aerobatic competitor and air show performer. Chambliss is a five-time U.S. National Aerobatic Champion\, a member of the U.S. National Aerobatic Team from 1997-2005 as well as its captain on three occasions. He has earned 13 medals in world aerobatics competition. \nWARBIRDS OF AMERICA HALL OF FAME \nCarl Scholl (EAA 184061) and Tony Ritzman (EAA 393289): This duo both began their interest in aviation in the 1970s and\, after meeting at Scholl’s transmission shop\, they began started Aero Traders\, an aircraft restoration business that has become renowned for its painstaking attention to detail and “doing it right.” For more than 40 years they have restored dozens of warbirds and there are few airworthy B-25 Mitchell bombers from the World War II era flying today that have not been under their care. \nULTRALIGHTS HALL OF FAME \nRoy Beisswenger (EAA 537298): Beisswenger has made significant contributions to ultralight flight as an instructor\, event organizer\, and media supporter. He is the only FAA Gold Seal flight instructor to have earned the recognition through training powered parachute pilots\, and has served on international committees that created competition and record-setting sdtandards for the sport. He organized the World Powered Parachute championships in 2000\, drawing competitors from four continents. He created the UltraFlight Radio Show and took over publishing UltraFlight Magzine\, now known as Powered Sport Flying Magazine. \nEAA HALLS OF FAME 2020 INDUCTEES \nHOMEBUILDERS HALL OF FAME \nFrank Christensen (EAA 36663): Christensen is one of only a few individuals honored in two of the EAA Halls of Fame\, as he was also inducted into the International Aerobatic Club Hall of Fame in 2017. Christensen changed both the aerobatic and kit aircraft communities in 1977 with the introduction of the Christen Eagle\, a fully aerobatic biplane that also set the gold standard for homebuilt aircraft kits. Christensen was also an outstanding aerobatic competition pilot\, winning the Advanced category title at the 1969 U.S. National Aerobatic Championships. \nVINTAGE AIRCRAFT ASSOCIATION HALL OF FAME \nSteve Dyer (EAA 40682): Dyer has been an avid supporter of the vintage aircraft movement throughout his life and has been instrumental in developing replacement parts to keep those historic aircraft flying. His family business\, Univair Aircraft Corporation\, has been a go-to resource for owners of vintage aircraft including for types that have been “orphaned” after their manufacturers went out of business. Dyer’s foresight and abilities have allowed thousands of aircraft throughout the country to remain airworthy and serve as examples of the varied designs and capabilities of vintage aircraft. \nINTERNATIONAL AEROBATIC CLUB HALL OF FAME \nVerne Jobst (EAA 37653): Jobst was one of the first members of IAC when it was founded in 1971\, serving as the first editor of Sport Aerobatics magazine and beginning in 1973\, a five-term as president of the organization. During that time\, IAC’s local chapter network and competition schedule expanded\, along with the creation of the IAC Achievement Awards program. Jobst also served on the EAA board of directors for nearly 30 years and headed air show operations at EAA AirVenture Oshkosh for 33 years. He was also well known for his piloting skills of EAA’s Spirit of St. Louis replicas\, including flying the aircraft in 1987 at LeBourget Airport in Paris on the 60th anniversary of Charles Lindbergh’s epic trans-Atlantic flight. \nWARBIRDS OF AMERICA HALL OF FAME \nMark Clark (EAA 42114): Clark turned his passion for flying\, military aircraft\, and history into a career as his family business\, Courtesy Aircraft\, helped thousands of aviators achieve their dreams of owning and operating historic military and other aircraft. His company is especially known as one of the leading brokers in the world of warbird aircraft. Clark’s own aviation career began in his teens\, including a T-6 restoration while he was in college. He holds the FAA Wright Brothers Master Pilot Award and is a longtime organizer of the National Warbird Operators Conference. \nULTRALIGHTS HALL OF FAME \nDan Johnson (EAA 368861): Johnson has a lifelong dedication to promoting and preserving light recreational aviation\, beginning with his start as a hang glider pilot in Tennessee. He promoted the sport through his own magazine\, Whole Air\, and through his writing for numerous other aviation publications. Johnson worked with Ballistic Recovery Systems to help develop and promote ballstic recovery chutes for ultralights that improved the safety of the sport. He is also currently president and chairman of the board for the Light Aircraft Manufacturers Association\, which advocates to the FAA on behalf of the ultralight and light aircraft communities. \nINDUCTEES – EAA HALL OF FAME \nHOMEBUILDERS  \n1993: Paul Poberezny\, S.J. “Steve” Wittman\, George Bogardus \n1994: Bernie Pietenpol\, Bob Burbick\, Ray Stits \n1995: Tony Bingelis\, Molt Taylor\, John Thorp \n1996: Sam Burgess\, Nick D’Apuzzo\, Ed Heath\, Volmer Jensen \n1997: Ladislao Pazmany\, William Ghan\, Harold Best-Devereux \n1998: Curtis Pitts\, Burt Rutan\, Bill Warwick \n1999: Henri Mignet\, Richard Van Grunsven\, Chris Heintz \n2000: Jean Delemontez\, Leslie Long \n2001: John Monnett \n2002: Jack Cox\, Ken Brock \n2003: William Chana \n2004: Bob Whittier\, Pete Bowers \n2005: Robert Bushby \n2006: Edgar Lesher\, B.J. Schramm \n2007: Randy Schlitter \n2008: John W. Dyke \n2009: Lance A. Neibauer \n2010: Dean Wilson \n2011: Ed Fisher \n2012: Wes Schmid \n2013: Phillip J. Lockwood \n2014: George Pereira \n2015: Tom Hamilton \n2016: Jim Bede \n2017: Rob Hickman \n2018: Darryl Murphy \n2019: Robert Nuckolls \n2020: Frank Christensen \n2021: Flo and Bob Irwin \nINTL. AEROBATIC CLUB \n1987: Jose Luis Aresti\, Duane Cole\, Curtis Pitts\, Frank Price \n1988: Marion Cole\, Mike Murphy\, Betty Skelton \n1989: Robert L. Heuer\, Beverly Howard\, Harold Krier \n1990: Lincoln Beachey\, Bob Herendeen\, Charlie Hillard\, Art Scholl \n1991: Leo Loudenslager\, Mary Gaffaney \n1993: Neil Williams\, Clint McHenry \n1998: Bill Barber\, Rodney Jocelyn\, Tex Rankin\, Harold Neumann\, Tom Poberezny \n1999: Henry Haigh \n2000: Gene Beggs \n2001: Mike Heuer \n2002: Bill Thomas\, Bob Davis \n2003: Don Taylor \n2004: Betty Stewart\, Dorothy Hester \n2005: Patty Wagstaff \n2006: Gene Soucy \n2007: Debby Rihn-Harvey\, Bill Kershner \n2008: William B. “Bill” Finagin \n2009: Robert A. “Bob” Hoover \n2010: Jimmy Franklin \n2011: Tony LeVier \n2012: Giles Henderson \n2013: William Joseph “Bill” Adams \n2014: Sammy Mason \n2015: Sean D. Tucker \n2016: Robert Armstrong \n2017: Frank Christensen \n2018: Thomas Adams Jr. \n2019: John Morrissey \n2020: Verne Jobst \n2021: Kirby Chambliss \nVINTAGE AIRCRAFT ASSN.  \n1993: E.E. “Buck” Hilbert\, George York \n1995: Cole Palen\, Kelly Viets\, Joe Juptner \n1997: Paul Poberezny\, Ann Pellegreno\, Jim Younkin\, Harold Armstrong \n1999: Gene Chase\, Edward C. Wegner\, Tom Flock \n2000: Jack Cox \n2001: Dr. Roy Wicker\, Ted Koston \n2002: John M. Miller \n2003: Al Kelch\, Nick Rezich \n2004: Espie “Butch” Joyce \n2005: Richard Knutson\, Charlie Nelson \n2006: Charles W. Harris \n2007: Chet Peek \n2008: Bill Pancake \n2009: Stephen Pitcairn \n2010: Morton Lester \n2011: John W. Underwood \n2012: Clyde Smith Jr. \n2013: Susan Dusenbury \n2014: Timothy Talen \n2015: Dale “Gus” Gustafson \n2016: Phil Coulson \n2017: Jim Moss \n2018: Ron Alexander \n2019: John Turgyan \n2020: Stephen Dyer \n2021: Steve Nesse \nWARBIRDS OF AMERICA  \n1995: Paul Poberezny\, Walt Ohlrich\, John Baugh\, Bill Harrison\, Jerry Walbrun \n1996: Dick Dieter\, Charlie Nogle \n1997: Sue Parish\, Rudy Frasca\, Jeff Ethell \n1998: John Ellis\, Randy Sohn \n1999: William Dodds\, Richard Ervin \n2000: Dave Schlingman \n2001: Lincoln Dexter\, Edward Maloney \n2002: Frank C. Sanders \n2003: Chuck Doyle\, Lloyd Parker Nolen \n2004: Howard Pardue \n2005: Kermit Weeks\, Steve Hinton \n2006: Jack Harrington\, Daryl Lenz \n2007: Wilson “Connie” Edwards \n2008: Connie Bowlin \n2009: George H. Baker \n2010: Harold D. “Hal” Weekley \n2011: David B. Lindsay Jr. \n2012: Preston (Pete) Parish \n2013: Lee Lauderback \n2014: Jay Wisler \n2015: Nelson Ezell \n2016: Doug Champlin \n2017: Clarence E. “Bud” Anderson \n2018: Jack Roush \n2019: Dennis Sanders \n2020: Mark Clark \n2021: Carl Scholl\, Tony Ritzman \nULTRALIGHTS \n1999: Homer Kolb\, John Moody\, Chuck Slusarczyk \n2000: Boris Popov\, Wayne Ison \n2001: Mike Sacrey \n2002: John Chotia\, Tom Peghiny \n2003: Mike Jacober \n2004: Klaus Hill\, Bert Howland \n2005: Larry Mauro \n2006: Bob Lovejoy\, Volmer Jensen \n2007: Mike Markowski \n2008: Mike Loehle \n2009: Roy Pinner \n2010: John Ballantyne \n2011: Jack McCornack \n2012: Taras Kiceniuk Jr. \n2013: Frank Beagle \n2014: Lowell Farrand \n2015: Leonard Milholland \n2016: Tracy Knauss \n2017: Mary Jones \n2018: Eugene Smith \n2019: Morry Hummel \n2020: Dan Johnson \n2021: Roy Beisswenger \n  \n
URL:https://www.warbirds-eaa.org/event/eaa-to-honor-2020-and-2021-halls-of-fame-inductees-on-nov-11/
LOCATION:EAA\, 3000 Poberezny Road\, Oshkosh\, WI\, 54903\, United States
ATTACH;FMTTYPE=image/jpeg:https://www.warbirds-eaa.org/wp-content/uploads/2021/10/Warbirds_4cLogo_REV1911_rgb.jpg
END:VEVENT
END:VCALENDAR