BEGIN:VCALENDAR
VERSION:2.0
PRODID:-//EAA Warbirds of America - ECPv4.6.26//NONSGML v1.0//EN
CALSCALE:GREGORIAN
METHOD:PUBLISH
X-WR-CALNAME:EAA Warbirds of America
X-ORIGINAL-URL:https://www.warbirds-eaa.org
X-WR-CALDESC:Events for EAA Warbirds of America
BEGIN:VEVENT
DTSTART;VALUE=DATE:20231103
DTEND;VALUE=DATE:20231105
DTSTAMP:20260426T014009
CREATED:20231016T154308Z
LAST-MODIFIED:20231016T154308Z
UID:6713-1698969600-1699142399@www.warbirds-eaa.org
SUMMARY:DeLand Aero Showcase
DESCRIPTION:\n \n\n\n\n\nTHE AERO SHOWCASE | DELAND \nThe Aero Showcase at DeLand\, FL 2023 is a highly anticipated annual event that highlights the latest developments and advancements in Sport\, Recreational\, and General Aviation. As organized by Aero Affinity Holding Corporation\, a distinguished company that represents\, commercializes\, and provides services for some of the world’s most notable international aircraft brands in the United States\, the Showcase provides aviation enthusiasts with a unique opportunity to experience the excitement of flying. \nThis year\, the event will feature multiple credible exhibitors showcasing a wide range of aircraft\, including ultralights\, trikes\, rotorcraft\, powered parachutes\, and paragliders\, as well as engines\, avionics\, pilot gear\, and flight schools. Attendees can participate in demo flights\, interactive workshops\, educational forums\, keynote speeches\, Showcase Flights\, demonstrations\, food concessions\, music\, pre-owned aircraft sales\, and much more. \nThe Aero Showcase is a must-visit event that is designed to welcome aviation enthusiasts of all ages\, especially those with an interest in the Fun Side of Flying. \n\n\n\n
URL:https://www.warbirds-eaa.org/event/deland-aero-showcase/
LOCATION:DeLand Municipal Airport\, 1000 Flightline Blvd\, Deland\, FL\, 32724\, United States
ATTACH;FMTTYPE=image/jpeg:https://www.warbirds-eaa.org/wp-content/uploads/2023/10/329253056_898771644798150_6913998466150825173_n.jpg
END:VEVENT
END:VCALENDAR