BEGIN:VCALENDAR
VERSION:2.0
PRODID:-//EAA Warbirds of America - ECPv4.6.26//NONSGML v1.0//EN
CALSCALE:GREGORIAN
METHOD:PUBLISH
X-WR-CALNAME:EAA Warbirds of America
X-ORIGINAL-URL:https://www.warbirds-eaa.org
X-WR-CALDESC:Events for EAA Warbirds of America
BEGIN:VEVENT
DTSTART;VALUE=DATE:20230614
DTEND;VALUE=DATE:20230619
DTSTAMP:20260425T003417
CREATED:20230307T155935Z
LAST-MODIFIED:20230307T155935Z
UID:6156-1686700800-1687132799@www.warbirds-eaa.org
SUMMARY:CYFD Brantford Formation Clinic
DESCRIPTION:Brantford (ONT) Formation Clinic – 2023\n\n\n\n\n \nPlease join us June 14-18 for the first NATA Formation Clinic at Brantford\, Ontario\, Canada (CYFD).\n \nNATA will hold its second Canadian Formation clinic in Brantford\, Ontario June 14-18. In addition to formation proficiency and training flights\, formation qualified pilots can participate in a photo-flight over the Niagara Falls \nArrival day is Wednesday\, June 14th. A mandatory Safety Briefing will kick off the clinic 0800 Thursday. Ground school will be offered\, schedule TBD. \nAll NATA Formation members are welcome. Training will be offered in T-6/SNJ/Harvard and T-28 as long as enough of each type attend the event. Trainees must review our Formation Training Program before attending this clinic\, paying particular attention to their specific aircraft requirements and the associated aircraft “Type Supplement” (formerly “Appendix D”). First-time clinic participants may find this Check List useful. \nNATA will comply with any governmental restrictions related to COVID-19. \nPlease review ALL of the registration steps below before proceeding: \n\n\n\nREGISTER ONLINE. Begin by clicking on the Register Now button\, supply the requested information\, and pay the registration fee. Late registrants will receive their T-shirt and name patch after the clinic. (You must be logged in to see the button. If you are not a Formation member\, you will receive an error message. You may upgrade your membership by visiting your profile\, clicking the renew early link\, and switching to Formation. The non-PIC member registration option may ONLY be used by members who will not be piloting aircraft at the clinic.)\n\n\n\n \n\n\n\n\n\nTRAINING? To be added to the list of trainees at the clinic (Wingman or Lead qualification)\, check the “Formation training” box during registration. Please do not check the box if you are participating for proficiency flying or as an IP/CP. If enough first-timers register\, a training ground school may be arranged on arrival day (late afternoon).\n\n\n\n\n\n \n\n\n\nINSURANCE. NOTICE:  If your insurance underwriter is not USSIC\, please share NATA’s restated Clinic Insurance Requirements with your broker (many policies were endorsed improperly in the past and will no longer be accepted).  \nNEW: Upload a Certificate of Insurance that meets NATA’s Clinic Insurance Requirements by visiting My Formation Documents on the Formation+ menu. (The good news is that once a COI has been uploaded and approved\, it will be good for most clinics until the policy expiration date. You may confirm uploaded COI status by viewing your personal Formation Documents.)\n\n\n\n \n\n\n\nHOLD HARMLESS AGREEMENT. You must accept the HH terms during registration\, then DOWNLOAD the agreement here\, print it\, sign and witness\, scan\, and upload by visiting your personal Formation Documents. Each person registered\, including guests\, must sign an agreement.\n\n\n\n \n\nALLOW TEXT MESSAGES. Clinic organizers may use text messages to relay information to participants during the clinic (e.g.\, weather-related updates). Please allow NATA to send you text messages by visiting the Contact Information tab in your profile\, and checking the box under your mobile number in Other Contacts\, towards the bottom of the screen. Review your personal Contact Information here.\n\nOther Information: \n\n\n\nINTERNATIONAL. Information for participants traveling to Canada is available here and at the Additional Info link below. Review the entire list now\, noting that some items are time-criticalor potentially disqualifying:\n\nExperimental authorization. Participants who bring US-registered experimental aircraft (T-28s and some Harvards) must submit an application for authorization to Transport Canada by May 24th. If requested\, we will hold a Zoom call to review the information and answer questions\nPassport. US travelers should confirm their passport will not expire within 6 months of the clinic\nPilot Medical Certificate. BasicMed not accepted in Canada\n\n\n\n\n\n \n\n\n\nTRAINEE PREPARATION. Pilots seeking training must comply with the aircraft readiness requirements in paragraph 5 of the Training Program. Please pay particular attention to the rear seat comms… we cannot conduct training in your aircraft if an IP cannot communicate with you and other aircraft in the flight. Also\, note that an “Eval” flight is required for first-time clinic participants\, and training materials must be reviewed prior to arrival.\n\n\n\n \n\n\n\nMEALS. Breakfasts available at the hotel. Lunches purchased individually each day at the co-colocated cafe\, from 8am to 2pm. Dinners at variety of restaurants (order from the menu\, paid individually)\, including Pub style\, family style\, and fine dining.  \n\nHOTEL. Best Western Brantford\, 19 Holiday Drive\, Brantford\, ONT (10 min from airport).  (519) 753-8651 or www.bestwesternbrantford.com. “NATA 5513” block held until May 3rd for Can$159/night.\n\n\n\n \n\n\n\nRENTAL CARS. Pencar car rental\, 112 Colborne St. East Brantford\, ONT.  519-753-3193. When you reserve\, mention that the car should be delivered to the airport and key left at the FBO.\n\n\n\n \n\n\n\nFUEL & OIL. Fuelling from the truck. Engine oil is not carried by the FBO\, but Aircraft Spruce has facility on site: simply order oil delivered to their Brantford Airport location.\n\n\n\n \n\nHANGARS & OTHER.  All parking on the main ramp. No grass parking available. Bring your own chocks and tie downs. No hangars available. Radial engine AME can be requested and on site within a few hours.\n\n \n\n\n \n\n\n\n\nWhen:\n\nWednesday\, June 14\, 2023 to Sunday\, June 18\, 2023\n \n\n\n\n \n\n\nWhere:\n\nBrantford Airport\, Ontario (CYFD)\nBrantford\, ON   \nCanada \n\n\n\n\n\n\nAdditional Info:\nPreparations for attendees visiting Canada\n\n\n\n\nEvent Contact(s):\nAlfred Beam\nLead\n(905) 651-0284 (p)\n(905) 651-0284 (c) \nabeam@beamteam.ca\n\n\n\n \nDavid Hewitt\nSafety\n(519) 421-1755 (p)\n(519) 536-6338 (c) \ndave@rumblingradials.ca\n\n\n\n \nDavid Martin\nTraining\n(905) 9849616 (p)\n9059849616 (c) \ndcmartin18@gmail.com\n\n\n\n \nAndrew Swart\nTraining\n(609) 737-3088 (p)\n(805) 444-9000 (c) \nandrew@swart.com\n\n\n\n \nDanny Richer\nVenue logistics\n(519) 770-7714 (p)\n519-770-7714 (c) \ndwgricher@aol.com\n\n\n\n \nSean Voskamp\nAdmin\n5195795323 (p)\n5194045935 (c) \nsvoskamp@hotmail.com\n\n\n\n\n\n \n \nCategory:\nFormation Clinic\n\n\n \n\n\n\n\nRegistration is required\n\nPayment In Full In Advance Only\n\n\nSee event details for required registration paperwork. Only PIC registrants may pilot aircraft at the event\, and must be NATA Formation members. Non-PIC registrants may not pilot aircraft at any time during the event\, and must simply be NATA members (e.g.\, photographers\, observers\, solely backseating pilots). Either registrant type may bring non-member guests.\n\nRegistration cancellations will be accepted until Sunday\, May 14\, 2023 at 12:00 AM\n\nCancellation Policy:\nWe do not issue refunds if you cancel your registration. Instead\, your registration fees will be credited to your account\, and applied to future NATA payments (e.g.\, membership dues or event fees). \nIf you cancel after May 14\, 2023\, a US$50 cancelation fee (plus postage and any fees for extra T-shirts/patches) will be applied\, and your items will be mailed to you. \n\n\n\n\n\n
URL:https://www.warbirds-eaa.org/event/cyfd-brantford-formation-clinic/
LOCATION:Brantford Airport\, Ontario (CYFD) Brantford\, ON \, Canada
ATTACH;FMTTYPE=image/png:https://www.warbirds-eaa.org/wp-content/uploads/2023/03/Brantford.png
END:VEVENT
END:VCALENDAR