BEGIN:VCALENDAR
VERSION:2.0
PRODID:-//EAA Warbirds of America - ECPv4.6.26//NONSGML v1.0//EN
CALSCALE:GREGORIAN
METHOD:PUBLISH
X-WR-CALNAME:EAA Warbirds of America
X-ORIGINAL-URL:https://www.warbirds-eaa.org
X-WR-CALDESC:Events for EAA Warbirds of America
BEGIN:VEVENT
DTSTART;VALUE=DATE:20210624
DTEND;VALUE=DATE:20210628
DTSTAMP:20260423T220517
CREATED:20210528T145851Z
LAST-MODIFIED:20210528T145851Z
UID:4851-1624492800-1624838399@www.warbirds-eaa.org
SUMMARY:CJAA Schuylkill County Airport PA Jet Blast (KZER)
DESCRIPTION:\n\n\n\nCJAA Schuylkill County Airport PA Jet Blast (KZER) \n\n\n\n\n\n\n\n\nWhen\n\n\n\n\nJune 24\, 2021 8:00 AM EDT to June 27\, 2021 5:00 PM EDT \n\n\n\n\nTickets\n\n\n\n\n$300.00 Member Ticket \n$300.00 Guest Ticket w/Member \n$250.00 Family Member \n\n\n\n\n\n\n\n \n\n\n\nDirections\n\n\n\n\nCJAA – PA Jet Blast – Schuylkill County Airport Pa. (KZER) \nPottsville\, PA \n\n\n\n\n  \n  \n\n\n\n\n\n\nNOTE: CJAA RELEASE AND WAIVER FORMS ARE BELOW AS AN ATTACHMENT TO FILL-OUT AND EMAIL BACK TO (FAST@CLASSICJETS.ORG) PRIOR TO EVENT.  \n  \nCHECK OUT OUR SPONSOR FOR THIS EVENT \nhttp://www.code1aviation.com/ \nPlease see the preliminary schedule for this event. There will be more details added within the week with suggested hotels and rental car information.  \n  \nSo that plans can be made accordingly\, register by June16th.  Registration costs will increase midnight June 16th.   \n  \n  \nHOSTED BY LARRY “LUNCH” LABRIOLA \n  \n2021 Schuylkill County Airport-Pottsville\, PA – Jet Blast  \n  \nhttp://www.pottsville-schuylkillcountyairport.com \nThe CJAA Northeast Regional Jet Blast at Pottsville\, Pennsylvania  KZER on June 24 th thru June 27th is an exclusive\, CJAA members only formation and aerobatic training event for Classic Jet Aircraft Association Warbirds. We will have a Cat1 box at thios event and ACE on hand. \n  \nPlan a trip to Pottsville\, PA for a weekend of flying\, training and fun while you sharpen your skills. \n  \nActivities \n\nSingle ship\, two and four ship formation flights and instruction and check outs\nFormation photos missions\nAerobatic training & outs with Ace Dan McCue starting on June 17\nAerial demonstration for our group by our group in Waivered airspace\n\n  \nFormation Training – The Jet Blast is an excellent training environment for FAST – Formation And Safety Team. We will have a safety officer\, briefs\, designated airspace\, frequencies and a flight schedule to provide the environment for you to receive the best formation training offered in the Northeast.There will be lead\, instructor pilots\, and back-seaters with military backgrounds at the event who will be ready to fly and to help sharpen your skills as a formation pilot. We will have check pilots at the event if you are ready for a FAST check ride. Likely there will be a professional photographer to fill an empty back seat to help record the event.Whether you are new to formation flying\, breaking off the rust to renew your certifications\, or just here to join your fellow aviators in formation flight…we focus on safety and proficiency starting off with briefs and followed up by a debrief. \n  \nAerobatic Training – CAT 1 BOX  \n  \nMentorship – Are you new to the Jet Warbird community and looking to learn more about the people\, the planes\, and get to know others who enjoy aviation the way you do? The CJAA Jet Blast is the best place to meet like-minded pilots and become part of our fraternity. We are eager to share the excitement of formation flying and welcome new CJAA members to our community. \n  \nSign up Early –Once we know how many people and jets are attending the event\, planning and arranging the details will be easy and we will have the most buying power. Please sign up Early and make your reservations. We have evening meals\, activities and plenty of hanger time to catch up with old friends. \n  \nHotels: \n  \nComfort Inn Mainstays Suites: Address: 1252 Morea Rd\, Frackville/Barnesville\, PA 18214  Phone: (570) 773-5252  \n($99.00 a night ) mention CJAA when booking.  \n  \nCountry Inn & Suites by Radisson\, Frackville (Pottsville)\, PA – 100 Keystone Blvd E\, Pottsville\, PA 17901 (570) 544-5201 \n  \n\nHoliday Inn Express: Address: 958 Mall Rd\, Frackville\, PA 17931 Phone: (570) 874-1700 \n  \n  \nRent a Car: \nEnterprise Rent A Car:  570-628-3200 \n  \n\n\n\n\n\n\n\n\n\n\n\n\n  \n\n\n\n\n\n\n\n\n\n\n\n\n
URL:https://www.warbirds-eaa.org/event/cjaa-schuylkill-county-airport-pa-jet-blast-kzer/
LOCATION:Schuylkill County Airport\, 240 Airport Road\, Pottsville\, PA\, 17901\, United States
ATTACH;FMTTYPE=image/jpeg:https://www.warbirds-eaa.org/wp-content/uploads/2020/06/cjaa-1.jpg
END:VEVENT
END:VCALENDAR