BEGIN:VCALENDAR
VERSION:2.0
PRODID:-//EAA Warbirds of America - ECPv4.6.26//NONSGML v1.0//EN
CALSCALE:GREGORIAN
METHOD:PUBLISH
X-WR-CALNAME:EAA Warbirds of America
X-ORIGINAL-URL:https://www.warbirds-eaa.org
X-WR-CALDESC:Events for EAA Warbirds of America
BEGIN:VEVENT
DTSTART;VALUE=DATE:20230721
DTEND;VALUE=DATE:20230724
DTSTAMP:20260425T021746
CREATED:20230109T172133Z
LAST-MODIFIED:20230109T172133Z
UID:5994-1689897600-1690156799@www.warbirds-eaa.org
SUMMARY:CJAA KTVC Oshkosh Kickoff Jet Blast
DESCRIPTION:CJAA KTVC Oshkosh Kickoff Jet Blast\nJuly 21\, 2023 5:00 PM CDT to July 23\, 2023 5:00 PM CDT \nDetails to be announced soon at https://classicjets.org/meetinginfo.php?id=98&ts=1672849209 \n
URL:https://www.warbirds-eaa.org/event/cjaa-ktvc-oshkosh-kickoff-jet-blast/
ATTACH;FMTTYPE=image/jpeg:https://www.warbirds-eaa.org/wp-content/uploads/2023/01/cjaa_Logo.jpg
END:VEVENT
END:VCALENDAR