BEGIN:VCALENDAR
VERSION:2.0
PRODID:-//EAA Warbirds of America - ECPv4.6.26//NONSGML v1.0//EN
CALSCALE:GREGORIAN
METHOD:PUBLISH
X-WR-CALNAME:EAA Warbirds of America
X-ORIGINAL-URL:https://www.warbirds-eaa.org
X-WR-CALDESC:Events for EAA Warbirds of America
BEGIN:VEVENT
DTSTART;VALUE=DATE:20230524
DTEND;VALUE=DATE:20230529
DTSTAMP:20260424T200704
CREATED:20230109T165951Z
LAST-MODIFIED:20230109T165951Z
UID:5990-1684886400-1685318399@www.warbirds-eaa.org
SUMMARY:CJAA KSLR Sulphur Springs Municipal Jet Blast
DESCRIPTION:CJAA KSLR Sulphur Springs Municipal Jet Blast \nMay 24\, 2023 5:00 PM CDT to May 28\, 2023 5:00 PM CDT \nDetails to be announced soon at https://classicjets.org/meetinginfo.php?id=96&ts=1672848771 \n
URL:https://www.warbirds-eaa.org/event/cjaa-kslr-sulphur-springs-municipal-jet-blast/
ATTACH;FMTTYPE=image/jpeg:https://www.warbirds-eaa.org/wp-content/uploads/2023/01/cjaa_Logo.jpg
END:VEVENT
END:VCALENDAR