BEGIN:VCALENDAR
VERSION:2.0
PRODID:-//EAA Warbirds of America - ECPv4.6.26//NONSGML v1.0//EN
CALSCALE:GREGORIAN
METHOD:PUBLISH
X-WR-CALNAME:EAA Warbirds of America
X-ORIGINAL-URL:https://www.warbirds-eaa.org
X-WR-CALDESC:Events for EAA Warbirds of America
BEGIN:VEVENT
DTSTART;VALUE=DATE:20231028
DTEND;VALUE=DATE:20231030
DTSTAMP:20260425T185003
CREATED:20231016T151339Z
LAST-MODIFIED:20231016T151339Z
UID:6699-1698451200-1698623999@www.warbirds-eaa.org
SUMMARY:Central Florida Air & Space Show
DESCRIPTION:The Orlando Air Show will be held on Saturday\, October 28 and Sunday\, October 29\, 2023 at Orlando Sanford International Airport. \nFor questions about the show please contact our customer support team at info@air.show. \nGates open at 9 am on Saturday and Sunday. The Flight Line Club and Corporate Chalets will open at 10 am on Saturday and Sunday. \nAll the major acts\, which you can see on our Performer Page\, will perform both days. The specific line-ups of each day’s show are posted about 1-2 weeks prior to the show. \nThe aerial portion of the show runs from noon to approximately 4:00 pm. \n
URL:https://www.warbirds-eaa.org/event/central-florida-air-space-show/
LOCATION:Orlando Sanford International Airport\, 1200 Red Cleveland Blvd\, Sanford\, FL\, 32773\, United States
ATTACH;FMTTYPE=image/png:https://www.warbirds-eaa.org/wp-content/uploads/2023/10/CF23-Website-Header-Banner-810x250-1.png
END:VEVENT
END:VCALENDAR