BEGIN:VCALENDAR
VERSION:2.0
PRODID:-//EAA Warbirds of America - ECPv4.6.26//NONSGML v1.0//EN
CALSCALE:GREGORIAN
METHOD:PUBLISH
X-WR-CALNAME:EAA Warbirds of America
X-ORIGINAL-URL:https://www.warbirds-eaa.org
X-WR-CALDESC:Events for EAA Warbirds of America
BEGIN:VEVENT
DTSTART;VALUE=DATE:20230318
DTEND;VALUE=DATE:20230319
DTSTAMP:20260424T213807
CREATED:20230105T170902Z
LAST-MODIFIED:20230210T153838Z
UID:5878-1679097600-1679183999@www.warbirds-eaa.org
SUMMARY:BLUEBONNET AIRSHOW
DESCRIPTION:\n\n\n\n\n\n\n\n\n\n31st Annual\nBLUEBONNET AIRSHOW\nbrought to you by the…\nHighland Lakes Squadron of the Commemorative Air Force\nSATURDAY\, MARCH 18\, 2023\nGate opens at 9:00 AM and tickets can be purchased in advance on line\, or at the gate on the day of the show. Advanced ticket sales are not yet open!!! See below… Ticket sales are also available at the gate. \nThe Aerial Program starts around 12:00 Noon.\n\n\n\n\n\n\n\n\n\n\n\nBUY TICKETS HERE\n\n\n \n\n\n\n\n\n\n\n\n\nFREQUENTLY ASKED QUESTIONS: CLICK HERE \n\n\n\n\n\n\n\n\n\n\n\n \n\n\n\n\n\n\n\n\n\n\n\n\n\n\n \n\n\nKate Craddock Field\, Burnet Municipal Airport\, Burnet\, Texas \n\n\n\n\n\n\n\n\n\n\n\n\n \n\n\n\n\n\n\n\n\n\nJoin the Highland Lakes Squadron of the Commemorative Air Force at the 30th Annual Bluebonnet Airshow. To explore a great era in aviation history\, join us at the Highland Lakes Squadrons’ Museum\, which will be open to the public as part of the admission cost during the Airshow. Mark your calendars and get ready to bring the family to the Bluebonnet Airshow! \nSPONSORSHIP INQUIRIES: Gretchen Pachlhofer (email) gretchenpachlhofer@gmail.com \nVENDOR INQUIRIES:  Ben Williams (email) Williams7507@gmail.com \nMEDIA INQUIRIES: Kirk D. Noaker\, Sr. (email) Kirk.Noaker@gmail.com \n\n\n\n\n\n\n\n\n\n\n\n \n\n\n\n\n\n\n\n\n\n \n\n\n\n \n\n\nTicket Prices \n\nAdults (18 – 59) $20.00 \nSenior (60 +) $15.00 \nMilitary (w/ID) $15.00 \nYouth (6 – 17) $10.00 \n5 & Under Free \n\n\n\n\n\n\n\n\n\n\n\n \n\n\n\n\n\n\n\n\n\nBUY TICKETS HERE \n\n\n\n\n\n\n\n\n\n\n\ngA-10 C THUNDERBOLT DEMONSTRATION TEAM FOOTAGE FROM THE 2021 BLUEBONNET AIRSHOW IN BURNET\, TEXAS (BELOW – LEFT)\n\n\n\n\n\n\n\n\n\n\n\nBLUEBONNET AIRSHOW RADIO SPOT ON KBEY-FM 103.9 BASED IN MARBLE FALLS\, TX (BELOW – RIGHT) \n\n\n\n\n\n\n\n\n\n\n\n \n\n\n\n\n\n\n\n\n\n\n\n \n \n\n\n\n\n\n\n\n\n\n \n\n\n\n\n\n\n\n\n\n\n\n\n\n\n\n \n \n\n\n\n\n\n\n\n\n\n\n\n\n\n \n\n\n\n\n\n\n\n\n\n\n\n \n \n\n\n\n\n\n\n\n\n\n\n\n\n\n\n\n\n\n\n \n \n\n\n\n\n\n\n\n\n\n\n\n\n\n \n\n\n\n\n\n\n\n\n\nFOLLOW US ON FB: @BLUEBONNETAIRSHOW \nFOLLOW US ON TIKTOK: @BLUEBONNETAIRSHOW \n\n\n\n\n\n\n\n\n\n\n\n \n\n\n\n\n\n\n\n\n\nTHIS YEARS VIP TENT UNDERWRITER IS 7 CREEKS VINEYARD\, CLICK HERE FOR MORE INFO! \n\n\n\n\n\n\n\n\n\n\n\n \n\n\n\n\n\n\n\n\n\n \n\n\n\n \n\n\n*** 2022 ACTS AND STATIC AIRCRAFT – 2023 – Working *** \n\nA 1 0 T h u n d e r b o l t T e a m \nM i G – 1 7 f r o m F i g h t e r J e t s I n c o r p o r a t e d \nL 1 9 – B i r d D o g \nO – 2 S k y m a s t e r \nH e r i t a g e F l i g h t \nS i k o r s k y S – 6 1 H e l i c o p t e r ” S h o r t s k y “ \nW W I I B o m b e r s & F i g h t e r s \n” T h a t ‘ s a l l B r o t h e r ” C – 4 7 \n” D e v i l D o g ” B – 2 5 \n” T e x a s L a d y ” C – 4 5 \n” I k e ‘ s B i r d ” L 2 6 – B E i s e n h o w e r ‘ s A i r F o r c e O n e \nG r u m m a n H U – 1 6 A l b a t r o s s \nC h i n e s e C J – 6 \nT – 3 3 S h o o t i n g S t a r \nB o e i n g P T – 1 7 S t e a r m a n \nC e s s n a U – 3 ” B l u e C a n o e “ \nC u r t i s – P i t t s B i – P l a n e \nP – 5 1 M u s t a n g \nN o r t h A m e r i c a n T – 6 T e x a n \nN o r t h A m e r i c a n T – 2 8 T r o j a n \nd e H a v i l l a n d T i g e r M o t h \nF a l c o n F l i g h t F o r m a t i o n T e a m \nV u l t e e B T – 1 3 V a l i a n t \nA u s t i n P a r a c h u t e C l u b \nD i l l a r d S i s t e r s S i n g e r s \nL i v i n g H i s t o r y R e e n a c t m e n t s \nF o r m a t i o n F l y i n g \nW h i r l y – T w i r l y B i r d s \n5 0 1 s t L e g i o n S t o r m t r o o p e r s \nP Y R O b y B L A S T A R D S \nV e n d o r s \nV I P P a r k i n g / S h u t t l e S e r v i c e \nH i g h l a n d L a k e s S q u a d r o n M u s e u m \n\n\n\n\n\n\n\n\n\n\n\n\n\n\n\n\n\n\n\n\n \n\n\n\n\n \n\n\n\n\n\n\n\n\n\n\n\n\n\n\n\n\n\n\n\n \n\n\n\n\n\n\n\n\n\n\n\n\n\n\n\n\n\n\n\n \n\n\n\n\n\n\n \n\n\n\n\n\n\n\n\n\nYOUR 2022 BLUEBONNET AIRSHOW TEAM -2023 Working \nCAF Col Kirk D. Noaker\, Sr. – Airshow Director / Chair of Event \nCAF Col David Hargett – Acts Coordinator \nDarlene Hargett – In Kind Coordinator \nCAF Col Gretchen Pachlhofer – Sponsorship Coordinator \nVicky Holland – Sponsorships \nCAF Col Ed Holley – Ground Operations \nCassie Williams – VIP Coordinator \nCAF Col Robbie Galloway – Parking Operations \nCAF Col John Knapp – Logistics \nCAF Col Henry Coram – PX / Lodging Coordinator \nBen Williams – Vendor Coordinator \nCAF Col Pat Moore – Safety Coordinator \nCAF Col Sonny Croom – Front Gate Operations \nCAF Col Mark Davis – A10 Team Liaison \nCAF Col Jeff Copsetta – Living History Coordinator \nCAF Col Terry Nuss – Finance Operations \nAdrienne Feild – Burnet Municipal Airport \nAnd\, MANY more dedicated volunteers!!! \n\n\n\n\n\n\n\n\n\n\n\n \n\n\n\n\n\n\n\n\n\n \n\n\n \n\n\n\n\n\n\n\n\n\n\n\n\n
URL:https://www.warbirds-eaa.org/event/bluebonnet-airshow-3/
ATTACH;FMTTYPE=image/png:https://www.warbirds-eaa.org/wp-content/uploads/2023/01/bb.png
END:VEVENT
END:VCALENDAR