BEGIN:VCALENDAR
VERSION:2.0
PRODID:-//EAA Warbirds of America - ECPv4.6.26//NONSGML v1.0//EN
CALSCALE:GREGORIAN
METHOD:PUBLISH
X-WR-CALNAME:EAA Warbirds of America
X-ORIGINAL-URL:https://www.warbirds-eaa.org
X-WR-CALDESC:Events for EAA Warbirds of America
BEGIN:VEVENT
DTSTART;TZID=America/Chicago:20230527T100000
DTEND;TZID=America/Chicago:20230528T150000
DTSTAMP:20260424T215423
CREATED:20230106T191624Z
LAST-MODIFIED:20230106T191624Z
UID:5981-1685181600-1685286000@www.warbirds-eaa.org
SUMMARY:Bethpage Air Show
DESCRIPTION:\n\n \n\n\n\n \n\nBethpage Air Show\nat Jones Beach State Park\n\nSaturday\, May 27 & Sunday\, May 28\nfrom 10AM – 3PM \nNY State Parks\n \n\n\n\n\n\n\n12\n\nUnited States Air Force ThunderbirdsWe are pleased to announce the United States Air Force Thunderbirds as our headliners for the 2023 show! \n\n\nUnited States Air Force ThunderbirdsWe are pleased to announce the United States Air Force Thunderbirds as our headliners for the 2023 show! \n\n\n\n\n\nThe 2023 Bethpage Air Show will take place Saturday\, May 27\, and Sunday\, May 28\, from 10AM-3PM! We are pleased to welcome back the United States Air Force Thunderbirds as our headliners. Stay tuned for additional announcements! \n\n\n\n\n\n\n\n\n\n\nFind us on Facebook\nClick here to follow us on Facebook.\n\n\n\n\n\nSponsors\nThanks to our show sponsors!\nView all sponsors >>\n\n\n\n\n\n\nJones Beach\nJones Beach is one of New York’s hot spots in the summer!\n\n\n\n\n\n\nDirections\nClick here for directions to Jones Beach.\n\n\n\n \n\n\n \n\n\n\n\n\nEVENT SPONSORED BY\n\n\n\n\n\n\n\n\n\n\n\n\n\n\n\n\n\n\n\n\n\n\n\n\n\n\n\n\n\n\nEVENT PRESENTED BY:\n\n\n\n\n\n\n\n\n\n\n\n\n\nVOTED BEST ANNUAL\nFESTIVAL/EVENT\n\n\n\n\n\n\nHOME\n  \nABOUT\n\nGALLERY\n  \nEVENTS\n  \nMEDIA INFO\n\n\n  \nPERFORMERS\n  \nSPONSORS\n  \nHOSPITALITY\n  \nCONTACT\n\nDIRECTIONS\n\n\n\n\n\n\n \n\n\n
URL:https://www.warbirds-eaa.org/event/bethpage-air-show-2/
LOCATION:Jones Beach State Park\, 2400 Ocean Pkwy\, Wantagh\, NY\, 11793\, United States
ATTACH;FMTTYPE=image/png:https://www.warbirds-eaa.org/wp-content/uploads/2023/01/new_logo.png
END:VEVENT
END:VCALENDAR