BEGIN:VCALENDAR
VERSION:2.0
PRODID:-//EAA Warbirds of America - ECPv4.6.26//NONSGML v1.0//EN
CALSCALE:GREGORIAN
METHOD:PUBLISH
X-WR-CALNAME:EAA Warbirds of America
X-ORIGINAL-URL:https://www.warbirds-eaa.org
X-WR-CALDESC:Events for EAA Warbirds of America
BEGIN:VEVENT
DTSTART;TZID=America/Chicago:20211027T190000
DTEND;TZID=America/Chicago:20211027T203000
DTSTAMP:20260424T153901
CREATED:20211006T220817Z
LAST-MODIFIED:20211006T220817Z
UID:5219-1635361200-1635366600@www.warbirds-eaa.org
SUMMARY:A Clue (or Two) For Your Next Flight Review Webinar
DESCRIPTION:Would you like to learn a little history about the flight review? Perhaps you’d like to make your next flight review a more pleasant and enjoyable experience? Or\, would you like to know what is required of you during the flight review? If any of these strike your fancy\, then please join award-winning CFI Rod Machado for a fun and educational discussion on this topic. Qualifies for FAA WINGS credit. \nPresenter: Rod Machado \nBy clicking the button\, you submit your information to the webinar organizer\, who will use it to communicate with you regarding EAA Webinars. \n
URL:https://www.warbirds-eaa.org/event/a-clue-or-two-for-your-next-flight-review-webinar/
ATTACH;FMTTYPE=image/jpeg:https://www.warbirds-eaa.org/wp-content/uploads/2021/10/606-highres.jpg
END:VEVENT
END:VCALENDAR